BEGIN:VCALENDAR
VERSION:2.0
PRODID:-//The Boardwalk at Granite Park - ECPv6.15.20//NONSGML v1.0//EN
CALSCALE:GREGORIAN
METHOD:PUBLISH
X-WR-CALNAME:The Boardwalk at Granite Park
X-ORIGINAL-URL:https://boardwalkgranitepark.com
X-WR-CALDESC:Events for The Boardwalk at Granite Park
REFRESH-INTERVAL;VALUE=DURATION:PT1H
X-Robots-Tag:noindex
X-PUBLISHED-TTL:PT1H
BEGIN:VTIMEZONE
TZID:America/Chicago
BEGIN:DAYLIGHT
TZOFFSETFROM:-0600
TZOFFSETTO:-0500
TZNAME:CDT
DTSTART:20200308T080000
END:DAYLIGHT
BEGIN:STANDARD
TZOFFSETFROM:-0500
TZOFFSETTO:-0600
TZNAME:CST
DTSTART:20201101T070000
END:STANDARD
BEGIN:DAYLIGHT
TZOFFSETFROM:-0600
TZOFFSETTO:-0500
TZNAME:CDT
DTSTART:20210314T080000
END:DAYLIGHT
BEGIN:STANDARD
TZOFFSETFROM:-0500
TZOFFSETTO:-0600
TZNAME:CST
DTSTART:20211107T070000
END:STANDARD
BEGIN:DAYLIGHT
TZOFFSETFROM:-0600
TZOFFSETTO:-0500
TZNAME:CDT
DTSTART:20220313T080000
END:DAYLIGHT
BEGIN:STANDARD
TZOFFSETFROM:-0500
TZOFFSETTO:-0600
TZNAME:CST
DTSTART:20221106T070000
END:STANDARD
BEGIN:DAYLIGHT
TZOFFSETFROM:-0600
TZOFFSETTO:-0500
TZNAME:CDT
DTSTART:20230312T080000
END:DAYLIGHT
BEGIN:STANDARD
TZOFFSETFROM:-0500
TZOFFSETTO:-0600
TZNAME:CST
DTSTART:20231105T070000
END:STANDARD
BEGIN:DAYLIGHT
TZOFFSETFROM:-0600
TZOFFSETTO:-0500
TZNAME:CDT
DTSTART:20240310T080000
END:DAYLIGHT
BEGIN:STANDARD
TZOFFSETFROM:-0500
TZOFFSETTO:-0600
TZNAME:CST
DTSTART:20241103T070000
END:STANDARD
END:VTIMEZONE
BEGIN:VEVENT
DTSTART;VALUE=DATE:20230105
DTEND;VALUE=DATE:20230201
DTSTAMP:20260420T122521
CREATED:20230105T194413Z
LAST-MODIFIED:20230105T234353Z
UID:10000559-1672876800-1675209599@boardwalkgranitepark.com
SUMMARY:Blue Mesa’s Fajitas
DESCRIPTION:Blue Mesa’s best fajita’s for two January special! Taste the difference! The fajitas for two includes a free bowl of queso. $35 for the chicken or combo and + $2 for steak!
URL:https://boardwalkgranitepark.com/event/blue-mesas-fajitas/
CATEGORIES:Blue Mesa Grill,Specials
ATTACH;FMTTYPE=image/png:https://boardwalkgranitepark.com/wp-content/uploads/sites/2/2023/01/fajita-8t1MEq.tmp_.png
END:VEVENT
BEGIN:VEVENT
DTSTART;VALUE=DATE:20230105
DTEND;VALUE=DATE:20230201
DTSTAMP:20260420T122521
CREATED:20230105T194412Z
LAST-MODIFIED:20230105T234352Z
UID:10000557-1672876800-1675209599@boardwalkgranitepark.com
SUMMARY:Blue Mesa’s Skinny Margarita
DESCRIPTION:Keep your new year’s resolution with Blue Mesa’s Skinny Margarita!  Olmeca Altos Reposado Tequila\, fresh lemon and lime juice\, and soda.
URL:https://boardwalkgranitepark.com/event/blue-mesas-skinny-margarita/
CATEGORIES:Blue Mesa Grill,Specials
ATTACH;FMTTYPE=image/png:https://boardwalkgranitepark.com/wp-content/uploads/sites/2/2023/01/marg-P6iqKK.tmp_.png
END:VEVENT
BEGIN:VEVENT
DTSTART;VALUE=DATE:20221130
DTEND;VALUE=DATE:20230101
DTSTAMP:20260420T122521
CREATED:20221130T155735Z
LAST-MODIFIED:20221130T235838Z
UID:10000693-1669766400-1672531199@boardwalkgranitepark.com
SUMMARY:Blue Mesa Holiday Fajita Party Pack To-Go
DESCRIPTION:Available the whole month of December! A Delicious and easy way to entertain. \nQueso\, guacamole\, chicken taquitos\, combo fajitas (grilled steak & chicken)\, Adobe Pie (our version of tamales)\, smoky black beans\, coconut lime rice\, toppings\, and tortillas. Includes chocolate fudge brownies with a cajeta swirl. \n  \nPick up your heat and serve meal or get it delivered (within a 5-mile radius of Blue Mesa). $195 serves 8 people. To order\, click on ORDER TO GO at bluemesagrill.com.
URL:https://boardwalkgranitepark.com/event/blue-mesa-holiday-fajita-party-pack-to-go/
CATEGORIES:Blue Mesa Grill,Specials
ATTACH;FMTTYPE=image/png:https://boardwalkgranitepark.com/wp-content/uploads/sites/2/2022/11/new-pp-dxNOgO.tmp_.png
END:VEVENT
BEGIN:VEVENT
DTSTART;VALUE=DATE:20221130
DTEND;VALUE=DATE:20230101
DTSTAMP:20260420T122521
CREATED:20221130T155734Z
LAST-MODIFIED:20221130T235838Z
UID:10000691-1669766400-1672531199@boardwalkgranitepark.com
SUMMARY:Blue Mesa Holiday Catering
DESCRIPTION:Parties at your place or ours! \nCater a holiday get together or book your party at our place! Parties range from $22 to $30 per person. For complete menus and to order online\, go to bluemesagrill.com.
URL:https://boardwalkgranitepark.com/event/blue-mesa-holiday-catering/
CATEGORIES:Blue Mesa Grill,Specials
ATTACH;FMTTYPE=image/png:https://boardwalkgranitepark.com/wp-content/uploads/sites/2/2022/11/new-holidiay-x9DBao.tmp_.png
END:VEVENT
BEGIN:VEVENT
DTSTART;TZID=America/Chicago:20221124T090000
DTEND;TZID=America/Chicago:20221124T160000
DTSTAMP:20260420T122521
CREATED:20221031T161912Z
LAST-MODIFIED:20221124T234651Z
UID:10000667-1669280400-1669305600@boardwalkgranitepark.com
SUMMARY:Blue Mesa Thanksgiving Brunch
DESCRIPTION:Latin roasted turkey\, cranberry-jalapeño relish\, southwest stuffing\, mashed and sweet potatoes\, green beans\, cinnamon roasted butternut squash\, and a variety of pies. All that plus Blue Mesa’s usual mega brunch buffet! The $30 price includes Mimosas\, coffee\, tea\, OJ and soft drinks. $10 for kids ages 6-11 years old; age 5 and younger eat for free. Thursday\, Nov. 24th\, 9am to 4pm. Please call to reserve your spot (214) 387-4407.    
URL:https://boardwalkgranitepark.com/event/blue-mesa-thanksgiving-brunch/
CATEGORIES:Blue Mesa Grill,Specials
ATTACH;FMTTYPE=image/png:https://boardwalkgranitepark.com/wp-content/uploads/sites/2/2022/10/new-BSRQGC.tmp_.png
END:VEVENT
BEGIN:VEVENT
DTSTART;TZID=America/Chicago:20221122T090000
DTEND;TZID=America/Chicago:20221123T160000
DTSTAMP:20260420T122521
CREATED:20221031T161912Z
LAST-MODIFIED:20221122T232807Z
UID:10000666-1669107600-1669219200@boardwalkgranitepark.com
SUMMARY:Blue Mesa Thanksgiving Family Pack To-Go
DESCRIPTION:Latin roasted turkey\, cranberry-jalapeño relish\, southwest stuffing\, turkey gravy\, cheese enchiladas\, redskin mashed potatoes\, garlic-basil green beans\, cinnamon roasted butternut squash\, sweet corn cake\, mandarin-roasted pepper salad with citrus vinaigrette and chile pecans\, dinner rolls\, and a choice of pumpkin\, apple\, or pecan pie. Pick up your heat and serve meal or get it delivered (limited area) on Tuesday or Wednesday (11/22 or 11/23). $175 serves 6 people (with leftovers)! To order\, please visit the Blue Mesa website home page and press the order to go button.
URL:https://boardwalkgranitepark.com/event/blue-mesa-thanksgiving-family-pack-to-go/
CATEGORIES:Blue Mesa Grill,Specials
ATTACH;FMTTYPE=image/png:https://boardwalkgranitepark.com/wp-content/uploads/sites/2/2022/10/neww-UBjHTE.tmp_.png
END:VEVENT
BEGIN:VEVENT
DTSTART;VALUE=DATE:20220920
DTEND;VALUE=DATE:20230101
DTSTAMP:20260420T122521
CREATED:20220920T194240Z
LAST-MODIFIED:20220920T235725Z
UID:10000656-1663632000-1672531199@boardwalkgranitepark.com
SUMMARY:Holiday Plans With Blue Mesa
DESCRIPTION:Get a jump on your holiday party plans with Blue Mesa! Go here\, click on Holiday Menu\, and Contact an Event Coordinator. We are ready to help you plan your event!
URL:https://boardwalkgranitepark.com/event/holiday-plans-with-blue-mesa/
CATEGORIES:Blue Mesa Grill,Specials
ATTACH;FMTTYPE=image/jpeg:https://boardwalkgranitepark.com/wp-content/uploads/sites/2/2022/09/Sdln5DCg-5rgU5X.tmp_.jpg
END:VEVENT
BEGIN:VEVENT
DTSTART;VALUE=DATE:20220901
DTEND;VALUE=DATE:20221016
DTSTAMP:20260420T122521
CREATED:20220901T170032Z
LAST-MODIFIED:20220901T231250Z
UID:10000640-1661990400-1665878399@boardwalkgranitepark.com
SUMMARY:Chilehead Your Way to Santa Fe Contest
DESCRIPTION:Great prizes including a grand prize all expense paid trip for two to Santa Fe! \nClick here for a chance to win.
URL:https://boardwalkgranitepark.com/event/chilehead-your-way-to-santa-fe-contest/
CATEGORIES:Blue Mesa Grill,Specials
ATTACH;FMTTYPE=image/jpeg:https://boardwalkgranitepark.com/wp-content/uploads/sites/2/2022/09/chilehead-pn51Km.tmp_.jpg
END:VEVENT
BEGIN:VEVENT
DTSTART;VALUE=DATE:20220822
DTEND;VALUE=DATE:20220906
DTSTAMP:20260420T122521
CREATED:20220822T142720Z
LAST-MODIFIED:20220822T232820Z
UID:10000636-1661126400-1662422399@boardwalkgranitepark.com
SUMMARY:Summer Margarita Special
DESCRIPTION:Add to summer fun on the Boardwalk with a 6-pack of individual Blue Margaritas in pouches to go! \n6-pack special – only $36
URL:https://boardwalkgranitepark.com/event/summer-margarita-special/
CATEGORIES:Blue Mesa Grill,Specials
ATTACH;FMTTYPE=image/png:https://boardwalkgranitepark.com/wp-content/uploads/sites/2/2022/08/Screenshot-2022-08-22-091659-NBSrY0.tmp_.png
END:VEVENT
BEGIN:VEVENT
DTSTART;TZID=America/Chicago:20220222T110000
DTEND;TZID=America/Chicago:20220222T210000
DTSTAMP:20260420T122521
CREATED:20220214T193527Z
LAST-MODIFIED:20220222T232833Z
UID:10000583-1645527600-1645563600@boardwalkgranitepark.com
SUMMARY:National Tequila Day – Blue Mesa
DESCRIPTION:Celebrate National Tequila Day at Blue Mesa! \nOn Tuesday\, February 22\, Blue Mesa will be offering $5 blue margaritas all day. \nBe sure to stop by and enjoy the best blue margs around! \n 
URL:https://boardwalkgranitepark.com/event/national-tequila-day-blue-mesa/
CATEGORIES:Blue Mesa Grill,Boardwalk,Specials
ATTACH;FMTTYPE=image/jpeg:https://boardwalkgranitepark.com/wp-content/uploads/sites/2/2022/02/Blue-Margs-scaled-hBE7zN.tmp_.jpg
END:VEVENT
BEGIN:VEVENT
DTSTART;VALUE=DATE:20220101
DTEND;VALUE=DATE:20220102
DTSTAMP:20260420T122521
CREATED:20211208T163153Z
LAST-MODIFIED:20220101T175753Z
UID:10000564-1640995200-1641081599@boardwalkgranitepark.com
SUMMARY:Blue Mesa Grill – New Years
DESCRIPTION:NEW YEAR’S DAY READY TO HEAT BRUNCH FOR 6 – $130 \nStart the New Year with Blue Mesa’s ready to heat brunch for 6 including some of their famous entrees! Please order in advance with at least 24-hour notice. Brunch is available Friday 12/31\, and Saturday 1/1\, for curbside pick-up or delivery (limited delivery area). \nREADY TO HEAT BRUNCH  INCLUDES:  \n\nMigas – eggs scrambler with Pico\, cheese and tortilla strips\nbreakfast potatoes\nFrench Toast Breakfast Bread Pudding with Cajeta\nTacos – beef brisket\, BBQ pork\, tomatillo chicken with assorted toppings\nJicama Slaw\nBlack-Eyed Pea Salad\nCoconut Rice\nSweet Corncake\nCheese Enchiladas\nChocolate Fudge Brownies\nBottle of Champagne with Orange Juice\n\nDine-In New Year’s Day Brunch \nBlue Mesa is hosting their annual mega brunch buffet on New Years Day from 10:00AM-3:00PM! \n\n $28 per person\n$7 for kids ages 6-11 years old\nfree for kids ages 5 and younger.\n\nReservations are recommended. Call 214-387-4407.
URL:https://boardwalkgranitepark.com/event/blue-mesa-grill-new-years/
CATEGORIES:Blue Mesa Grill
END:VEVENT
BEGIN:VEVENT
DTSTART;TZID=America/Chicago:20211101T080000
DTEND;TZID=America/Chicago:20211125T170000
DTSTAMP:20260420T122521
CREATED:20211030T153153Z
LAST-MODIFIED:20211103T203339Z
UID:10000434-1635753600-1637859600@boardwalkgranitepark.com
SUMMARY:Blue Mesa – Thanksgiving Specials
DESCRIPTION:THANKSGIVING BUFFET AT BLUE MESA \nOur signature brunch is dressed up for Thanksgiving with roast turkey\, jalapeño cranberry relish\, Southwest stuffing\, mashed and sweet potatoes\, green beans\, cinnamon roasted butternut squash\, and a variety of pies – in addition to our street taco bar\, omelet station. waffles\, brisket\, red chile salmon and more! Price includes Mimosas\, coffee\, tea\, orange juice and soft drinks. $28 per person\, $7 for kids ages 6 to 11\, and free for kids ages 5 and younger. Hours are from 10am to our last seating at 3pm. \n  \nTHANKSGIVING HOLIDAY FAMILY PACK TO-GO FOR 6  \n Click here for information on the Thanksgiving Family Pack menu. These family packs are ready to heat for easy entertaining You can order by Saturday 11/20. Pick-up Tuesday 11/23 or Wednesday 11/24 between 11am and 8pm. \nSpecial Offer: Order a Thanksgiving Family Pack by 11/15 and get a free quart of our Blue Margaritas! Just select “gobble” at checkout for your free quart of margaritas when you place your order before 11/15.
URL:https://boardwalkgranitepark.com/event/blue-mesa-thanksgiving-specials/
CATEGORIES:Blue Mesa Grill,Boardwalk,Boardwalk Restaurants,Specials
ATTACH;FMTTYPE=image/jpeg:https://boardwalkgranitepark.com/wp-content/uploads/sites/2/2021/10/Blue-Mesa-Holida-Family-Pack-MIN-IwNNvr.tmp_.jpg
END:VEVENT
BEGIN:VEVENT
DTSTART;TZID=America/Chicago:20210724T100000
DTEND;TZID=America/Chicago:20210724T220000
DTSTAMP:20260420T122521
CREATED:20210703T064751Z
LAST-MODIFIED:20210724T081338Z
UID:10000529-1627120800-1627164000@boardwalkgranitepark.com
SUMMARY:National Tequila Day – Blue Mesa Grill
DESCRIPTION:Celebrate National Tequila Day at Blue Mesa! All-day long on July 24 Blue Mesa will be serving blue margaritas. They will be served for dine-in and in to-go pouches!
URL:https://boardwalkgranitepark.com/event/national-tequila-day-blue-mesa-grill/
CATEGORIES:Blue Mesa Grill,Boardwalk,Dining
ATTACH;FMTTYPE=image/jpeg:https://boardwalkgranitepark.com/wp-content/uploads/sites/2/2021/07/Blue-Margaritas-To-Go-1-min-scaled-mtQlVB.tmp_.jpg
END:VEVENT
BEGIN:VEVENT
DTSTART;TZID=America/Chicago:20210620T100000
DTEND;TZID=America/Chicago:20210620T150000
DTSTAMP:20260420T122521
CREATED:20210608T235850Z
LAST-MODIFIED:20210620T054221Z
UID:10000416-1624183200-1624201200@boardwalkgranitepark.com
SUMMARY:Father’s Day at Blue Mesa
DESCRIPTION:Blue Mesa Grill is celebrating Father’s Day with a special brunch that offers a huge variety of items!\n– carne asada with chimichurri\n– Latin chicken\n– Chimayo corn\n– street tacos with grilled red chile salmon\, ground beef-chorizo\n– Belgian waffles with fried chicken and syrup\, or with berries and whipped cream\n– biscuits & sausage gravy\n– skillet potatoes\n– made-to-order omelets\n– huevos rancheros and more!
URL:https://boardwalkgranitepark.com/event/fathers-day-at-blue-mesa/
LOCATION:Blue Mesa Grill
CATEGORIES:Blue Mesa Grill,Boardwalk,Dining
ATTACH;FMTTYPE=image/jpeg:https://boardwalkgranitepark.com/wp-content/uploads/sites/2/2021/06/Blue-Mesa-Fathers-Day-Brunch-min-scaled-VA0IGv.tmp_.jpg
END:VEVENT
BEGIN:VEVENT
DTSTART;TZID=America/Chicago:20210509T080000
DTEND;TZID=America/Chicago:20210509T163000
DTSTAMP:20260420T122521
CREATED:20210507T231303Z
LAST-MODIFIED:20210509T232717Z
UID:10000541-1620547200-1620577800@boardwalkgranitepark.com
SUMMARY:Mother’s Day Brunch @ Blue Mesa
DESCRIPTION:The mega brunch at Blue Mesa offers a huge variety of options at many made-to-order stations including breakfast classics like Biscuits & Sausage Gravy\, Migas\, Belgium Waffles with Berries & Whip Cream\, Chicken & Waffles and Omelets; a carving station with Brisket\, Red Chile Salmon and a variety of Street Tacos; and signature favorites like Adobe Pie®\, Cheese Enchiladas\, Sweet Corn Cake\, SW Mac ‘n Cheese\, Salads\, Chimayo Corn and much more. Topped off with a variety of Sweets. The $28 price also includes Champagne\, Mimosas\, OJ\, coffee and tea. \nReservations are recommended.
URL:https://boardwalkgranitepark.com/event/mothers-day-brunch-blue-mesa/
CATEGORIES:Blue Mesa Grill,Boardwalk,Dining
ATTACH;FMTTYPE=image/jpeg:https://boardwalkgranitepark.com/wp-content/uploads/sites/2/2021/05/Blue-Mesa-Mothers-Day-Brunch-min-scaled-LepZSQ.tmp_.jpg
END:VEVENT
BEGIN:VEVENT
DTSTART;TZID=America/Chicago:20210404T090000
DTEND;TZID=America/Chicago:20210404T160000
DTSTAMP:20260420T122521
CREATED:20210312T200225Z
LAST-MODIFIED:20210404T214925Z
UID:10000499-1617526800-1617552000@boardwalkgranitepark.com
SUMMARY:Easter Brunch @ Blue Mesa
DESCRIPTION:Blue Mesa will serve its famous brunch all-day on Easter Sunday with extra touches and extended brunch hours (9:00am to 4:00pm). The brunch offers a huge variety of options including Red Chile Glazed Ham\, Smoked Brisket\, Red Chile Salmon\, a variety of Street Tacos\, made-to-order Huevos Rancheros\, a choice of Omelets\, traditional and breakfast favorites like Enchiladas\, Adobe Pie®\, Chicken & Waffles\, Biscuits & Gravy\, Salads\, and Assorted Desserts. All that\, plus Champagne and Mimosas are included in the $28 price. \nKids ages 6-11 $7\, and age 5 and younger eat for free. \nReservations are recommended.
URL:https://boardwalkgranitepark.com/event/easter-brunch-blue-mesa/
CATEGORIES:Blue Mesa Grill,Boardwalk,Dining
ATTACH;FMTTYPE=image/jpeg:https://boardwalkgranitepark.com/wp-content/uploads/sites/2/2021/03/Blue-Mesa-Easter-Brunch-min-scaled-sRhMwG.tmp_.jpg
END:VEVENT
BEGIN:VEVENT
DTSTART;TZID=America/Chicago:20210326T160000
DTEND;TZID=America/Chicago:20210326T220000
DTSTAMP:20260420T122521
CREATED:20210302T194959Z
LAST-MODIFIED:20210326T211406Z
UID:10000494-1616774400-1616796000@boardwalkgranitepark.com
SUMMARY:Blue Mesa – March Madness Fajita Friday
DESCRIPTION:Blue Mesa Grill will host Fajita Fridays at all locations starting on March 5th and running every Friday through March 26th. The all-you-can-eat dinner includes sizzling fajitas made with select outside skirt steak from Deen Meats and quality chicken breast. Fajitas are served with smoky black beans\, coconut lime rice\, sweet corn cake\, guacamole\, jalapeno relish\, pico de gallo\, and flour tortillas. Servings are bottomless\, and the price is $20 per person. Hours are from 4:00pm to 10:00pm every Friday in March. \nIn addition to fajitas\, the Blue Mesas will offer Top Shelf Margaritas and Cucumber-Jalapeno Smash Margaritas in craft jars to share ($35 each).
URL:https://boardwalkgranitepark.com/event/blue-mesa-march-madness-fajita-friday-7/
CATEGORIES:Blue Mesa Grill,Boardwalk,Boardwalk Restaurants,Dining
ATTACH;FMTTYPE=image/jpeg:https://boardwalkgranitepark.com/wp-content/uploads/sites/2/2021/02/Blue-Mesa-Fajitas-min-scaled-5aVQci.tmp_.jpg
END:VEVENT
BEGIN:VEVENT
DTSTART;TZID=America/Chicago:20210319T160000
DTEND;TZID=America/Chicago:20210319T220000
DTSTAMP:20260420T122521
CREATED:20210302T194959Z
LAST-MODIFIED:20210319T203253Z
UID:10000492-1616169600-1616191200@boardwalkgranitepark.com
SUMMARY:Blue Mesa – March Madness Fajita Friday
DESCRIPTION:Blue Mesa Grill will host Fajita Fridays at all locations starting on March 5th and running every Friday through March 26th. The all-you-can-eat dinner includes sizzling fajitas made with select outside skirt steak from Deen Meats and quality chicken breast. Fajitas are served with smoky black beans\, coconut lime rice\, sweet corn cake\, guacamole\, jalapeno relish\, pico de gallo\, and flour tortillas. Servings are bottomless\, and the price is $20 per person. Hours are from 4:00pm to 10:00pm every Friday in March. \nIn addition to fajitas\, the Blue Mesas will offer Top Shelf Margaritas and Cucumber-Jalapeno Smash Margaritas in craft jars to share ($35 each).
URL:https://boardwalkgranitepark.com/event/blue-mesa-march-madness-fajita-friday-6/
CATEGORIES:Blue Mesa Grill,Boardwalk,Boardwalk Restaurants,Dining
ATTACH;FMTTYPE=image/jpeg:https://boardwalkgranitepark.com/wp-content/uploads/sites/2/2021/02/Blue-Mesa-Fajitas-min-scaled-5aVQci.tmp_.jpg
END:VEVENT
BEGIN:VEVENT
DTSTART;TZID=America/Chicago:20210312T160000
DTEND;TZID=America/Chicago:20210312T220000
DTSTAMP:20260420T122521
CREATED:20210302T194956Z
LAST-MODIFIED:20210312T200157Z
UID:10000491-1615564800-1615586400@boardwalkgranitepark.com
SUMMARY:Blue Mesa – March Madness Fajita Friday
DESCRIPTION:Blue Mesa Grill will host Fajita Fridays at all locations starting on March 5th and running every Friday through March 26th. The all-you-can-eat dinner includes sizzling fajitas made with select outside skirt steak from Deen Meats and quality chicken breast. Fajitas are served with smoky black beans\, coconut lime rice\, sweet corn cake\, guacamole\, jalapeno relish\, pico de gallo\, and flour tortillas. Servings are bottomless\, and the price is $20 per person. Hours are from 4:00pm to 10:00pm every Friday in March. \nIn addition to fajitas\, the Blue Mesas will offer Top Shelf Margaritas and Cucumber-Jalapeno Smash Margaritas in craft jars to share ($35 each).
URL:https://boardwalkgranitepark.com/event/blue-mesa-march-madness-fajita-friday-5/
CATEGORIES:Blue Mesa Grill,Boardwalk,Boardwalk Restaurants,Dining
ATTACH;FMTTYPE=image/jpeg:https://boardwalkgranitepark.com/wp-content/uploads/sites/2/2021/02/Blue-Mesa-Fajitas-min-scaled-5aVQci.tmp_.jpg
END:VEVENT
BEGIN:VEVENT
DTSTART;TZID=America/Chicago:20210305T160000
DTEND;TZID=America/Chicago:20210305T220000
DTSTAMP:20260420T122521
CREATED:20210226T174428Z
LAST-MODIFIED:20210310T182020Z
UID:10000509-1614960000-1614981600@boardwalkgranitepark.com
SUMMARY:Blue Mesa – March Madness Fajita Friday
DESCRIPTION:Blue Mesa Grill will host Fajita Fridays at all locations starting on March 5th and running every Friday through March 26th. The all-you-can-eat dinner includes sizzling fajitas made with select outside skirt steak from Deen Meats and quality chicken breast. Fajitas are served with smoky black beans\, coconut lime rice\, sweet corn cake\, guacamole\, jalapeno relish\, pico de gallo\, and flour tortillas. Servings are bottomless\, and the price is $20 per person. Hours are from 4:00pm to 10:00pm every Friday in March. \nIn addition to fajitas\, the Blue Mesas will offer Top Shelf Margaritas and Cucumber-Jalapeno Smash Margaritas in craft jars to share ($35 each).
URL:https://boardwalkgranitepark.com/event/blue-mesa-march-madness-fajita-friday/
CATEGORIES:Blue Mesa Grill,Boardwalk,Boardwalk Restaurants,Dining
ATTACH;FMTTYPE=image/jpeg:https://boardwalkgranitepark.com/wp-content/uploads/sites/2/2021/02/Blue-Mesa-Fajitas-min-scaled-5aVQci.tmp_.jpg
END:VEVENT
BEGIN:VEVENT
DTSTART;VALUE=DATE:20210219
DTEND;VALUE=DATE:20210222
DTSTAMP:20260420T122521
CREATED:20210210T233616Z
LAST-MODIFIED:20210219T060836Z
UID:10000511-1613692800-1613951999@boardwalkgranitepark.com
SUMMARY:National Margarita Day at Blue Mesa
DESCRIPTION:National Margarita Day is happening at Blue Mesa! Check out their specials below for more details.  \nTake-Out: Purchase any large Family Pack To-Go ($55) and get a free quart of Blue Margaritas (rocks or frozen). Family Packs serve four to six people and come in a variety of options – fajitas\, tacos\, enchiladas\, and more. See menus and order online at https://bluemesagrill.com/blue-mesa-to-go/ and get delivery for only $6.99 or available for curbside pick-up. This offer is good from Friday\, Feb 19th through Sunday\, Feb. 21st. \nDine-In: Get a Top Shelf Margarita made with 100% blue agave tequila for only $5 (regularly $11). This offer is good Friday\, Feb 19th through Sunday\, Feb. 21st
URL:https://boardwalkgranitepark.com/event/national-margarita-day-at-blue-mesa-2/
CATEGORIES:Blue Mesa Grill,Boardwalk,Boardwalk Restaurants,Dining
ATTACH;FMTTYPE=image/jpeg:https://boardwalkgranitepark.com/wp-content/uploads/sites/2/2021/02/Blue-Mesa-Fajitas-Ritas-min-scaled-JAgzrJ.tmp_.jpg
END:VEVENT
BEGIN:VEVENT
DTSTART;VALUE=DATE:20210212
DTEND;VALUE=DATE:20210215
DTSTAMP:20260420T122521
CREATED:20210205T173037Z
LAST-MODIFIED:20210211T234621Z
UID:10000387-1613088000-1613347199@boardwalkgranitepark.com
SUMMARY:Valentine’s Weekend at Blue Mesa
DESCRIPTION:DINE IN SUNDAY BRUNCH \nOn Valentine’s Day\, Blue Mesa will offer a complimentary bottle of champagne to every couple with the purchase of brunch. The brunch includes street tacos (with smoked brisket\, BBQ pork\, tomatillo chicken\, and toppings)\, red chile salmon\, enchiladas\, adobe pie\, omelets\, migas\, huevos rancheros\, chicken & waffles\, waffles with fresh berries and whipped cream\, breakfast potatoes\, Chimayo corn\, salads\, fresh fruit and a variety of house-made desserts. The $24 price per person also includes orange juice\, coffee\, iced tea\, and soft drinks. Brunch is served from 10:00am to 3:00pm. Reservations are recommended. Call (214) 387-4407. \n  \nVALENTINE’S DINNER – DINE IN OR TO GO (FOR TWO)\nCelebrate Valentine’s weekend with a menu that includes corn griddle cakes with BBQ Pork and pickled onion\, southwest Caesar salad\, red chile beef tenderloin\, shrimp & crab enchiladas with chipotle cream and mango salsa\, loaded mashed potatoes\, grilled vegetables\, and chocolate-dipped strawberries. $100 (serves two). \n\nThe dine-in menu is available Friday and Saturday (2/12 and 2/13) from 3:00pm to 10:00pm. Reservations are recommended. Call (214) 387-4407.\nThe to-go menu is available Friday through Sunday (2/12 through 2/14). Order at https://bluemesagrill.com/order-online-plano and get delivery for only $6.99 or available for pick-up.
URL:https://boardwalkgranitepark.com/event/valentines-weekend-at-blue-mesa/
CATEGORIES:Blue Mesa Grill,Boardwalk,Boardwalk Restaurants,Dining
ATTACH;FMTTYPE=image/png:https://boardwalkgranitepark.com/wp-content/uploads/sites/2/2021/02/BlueMesa_Logo_Color-R2CrbY.tmp_.png
END:VEVENT
END:VCALENDAR