BEGIN:VCALENDAR
VERSION:2.0
PRODID:-//The Boardwalk at Granite Park - ECPv6.15.20//NONSGML v1.0//EN
CALSCALE:GREGORIAN
METHOD:PUBLISH
X-WR-CALNAME:The Boardwalk at Granite Park
X-ORIGINAL-URL:https://boardwalkgranitepark.com
X-WR-CALDESC:Events for The Boardwalk at Granite Park
REFRESH-INTERVAL;VALUE=DURATION:PT1H
X-Robots-Tag:noindex
X-PUBLISHED-TTL:PT1H
BEGIN:VTIMEZONE
TZID:America/Chicago
BEGIN:DAYLIGHT
TZOFFSETFROM:-0600
TZOFFSETTO:-0500
TZNAME:CDT
DTSTART:20210314T080000
END:DAYLIGHT
BEGIN:STANDARD
TZOFFSETFROM:-0500
TZOFFSETTO:-0600
TZNAME:CST
DTSTART:20211107T070000
END:STANDARD
BEGIN:DAYLIGHT
TZOFFSETFROM:-0600
TZOFFSETTO:-0500
TZNAME:CDT
DTSTART:20220313T080000
END:DAYLIGHT
BEGIN:STANDARD
TZOFFSETFROM:-0500
TZOFFSETTO:-0600
TZNAME:CST
DTSTART:20221106T070000
END:STANDARD
BEGIN:DAYLIGHT
TZOFFSETFROM:-0600
TZOFFSETTO:-0500
TZNAME:CDT
DTSTART:20230312T080000
END:DAYLIGHT
BEGIN:STANDARD
TZOFFSETFROM:-0500
TZOFFSETTO:-0600
TZNAME:CST
DTSTART:20231105T070000
END:STANDARD
END:VTIMEZONE
BEGIN:VEVENT
DTSTART;VALUE=DATE:20220901
DTEND;VALUE=DATE:20221016
DTSTAMP:20260420T122602
CREATED:20220901T170032Z
LAST-MODIFIED:20220901T231250Z
UID:9531-1661990400-1665878399@boardwalkgranitepark.com
SUMMARY:Chilehead Your Way to Santa Fe Contest
DESCRIPTION:Great prizes including a grand prize all expense paid trip for two to Santa Fe! \nClick here for a chance to win.
URL:https://boardwalkgranitepark.com/event/chilehead-your-way-to-santa-fe-contest/
CATEGORIES:Blue Mesa Grill,Specials
ATTACH;FMTTYPE=image/jpeg:https://boardwalkgranitepark.com/wp-content/uploads/sites/2/2022/09/chilehead-pn51Km.tmp_.jpg
END:VEVENT
END:VCALENDAR